{
 "currentVersion": 11.3,
 "serviceDescription": "CW_Eng/FloodDepthGrid_2017",
 "name": "CW_Eng/FloodDepthGrid_2017",
 "description": "",
 "extent": {
  "xmin": 1.1567073218749948E7,
  "ymin": 7094614.19987824,
  "xmax": 1.1586636827916615E7,
  "ymax": 7122504.564044907,
  "spatialReference": {
   "wkid": 102746,
   "latestWkid": 2283
  }
 },
 "initialExtent": {
  "xmin": 1.1567073218749948E7,
  "ymin": 7094614.19987824,
  "xmax": 1.1586636827916615E7,
  "ymax": 7122504.564044907,
  "spatialReference": {
   "wkid": 102746,
   "latestWkid": 2283
  }
 },
 "fullExtent": {
  "xmin": 1.1567073218749948E7,
  "ymin": 7094614.19987824,
  "xmax": 1.1586636827916615E7,
  "ymax": 7122504.564044907,
  "spatialReference": {
   "wkid": 102746,
   "latestWkid": 2283
  }
 },
 "sortableFields": "",
 "bandCount": 1,
 "pixelType": "F32",
 "minValues": [
  0.0589599609375
 ],
 "maxValues": [
  17.67730712890625
 ],
 "meanValues": [
  2.3546219141902838
 ],
 "stdvValues": [
  2.6953640325438473
 ],
 "hasMultidimensions": false,
 "pixelSizeX": 3.2808333333333666,
 "pixelSizeY": 3.2808333333333435,
 "meanPixelSize": 1.0000000000000067,
 "datasetFormat": "SDR",
 "uncompressedSize": 202765852,
 "blockWidth": 128,
 "blockHeight": 128,
 "compressionType": "LZ77",
 "bandNames": [
  "Band_1"
 ],
 "allowCopy": true,
 "allowAnalysis": true,
 "itemAccess": false,
 "inspectionCapabilities": "",
 "minPixelSize": 0,
 "maxPixelSize": 0,
 "copyrightText": "",
 "serviceDataType": "esriImageServiceDataTypeGeneric",
 "serviceSourceType": "esriImageServiceSourceTypeDataset",
 "objectIdField": "",
 "fields": [],
 "capabilities": "Image,Metadata,Mensuration",
 "defaultMosaicMethod": "Center",
 "allowedMosaicMethods": "",
 "sortField": "",
 "sortValue": null,
 "sortAscending": true,
 "mosaicOperator": "First",
 "defaultCompressionQuality": 75,
 "defaultResamplingMethod": "Bilinear",
 "maxImageHeight": 4100,
 "maxImageWidth": 15000,
 "allowRasterFunction": true,
 "rasterFunctionInfos": [
  {
   "name": "None",
   "description": "",
   "help": ""
  }
 ],
 "rasterTypeInfos": [
  {
   "name": "Raster Dataset",
   "description": "Supports all ArcGIS Raster Datasets",
   "help": ""
  }
 ],
 "mensurationCapabilities": "Basic",
 "hasHistograms": true,
 "hasColormap": false,
 "hasRasterAttributeTable": false,
 "minScale": 0,
 "maxScale": 0,
 "exportTilesAllowed": false,
 "supportsStatistics": false,
 "supportsAdvancedQueries": false,
 "editFieldsInfo": null,
 "ownershipBasedAccessControlForRasters": null,
 "allowComputeTiePoints": false,
 "useStandardizedQueries": true,
 "advancedQueryCapabilities": {
  "useStandardizedQueries": true,
  "supportsStatistics": false,
  "supportsOrderBy": false,
  "supportsDistinct": false,
  "supportsPagination": false
 },
 "spatialReference": {
  "wkid": 102746,
  "latestWkid": 2283
 }
}
