View In:
ArcGIS JavaScript
ArcGIS Online Map Viewer
ArcGIS Earth
Service Description: CW_Eng/FloodDepthGrid_2017
Name: CW_Eng/FloodDepthGrid_2017
Description:
Single Fused Map Cache: false
Extent:
XMin: 1.1567073218749948E7
YMin: 7094614.19987824
XMax: 1.1586636827916615E7
YMax: 7122504.564044907
Spatial Reference: 102746
(2283)
LatestVCSWkid(0)
Initial Extent:
XMin: 1.1567073218749948E7
YMin: 7094614.19987824
XMax: 1.1586636827916615E7
YMax: 7122504.564044907
Spatial Reference: 102746
(2283)
LatestVCSWkid(0)
Full Extent:
XMin: 1.1567073218749948E7
YMin: 7094614.19987824
XMax: 1.1586636827916615E7
YMax: 7122504.564044907
Spatial Reference: 102746
(2283)
LatestVCSWkid(0)
Pixel Size X: 3.2808333333333666
Pixel Size Y: 3.2808333333333435
Band Count: 1
Pixel Type: F32
RasterFunction Infos: {"rasterFunctionInfos": [{
"name": "None",
"description": "",
"help": ""
}]}
Mensuration Capabilities: Basic
Inspection Capabilities:
Has Histograms: true
Has Colormap: false
Has Multi Dimensions : false
Rendering Rule:
Min Scale: 0
Max Scale: 0
Copyright Text:
Service Data Type: esriImageServiceDataTypeGeneric
Min Values: 0.0589599609375
Max Values: 17.67730712890625
Mean Values: 2.3546219141902838
Standard Deviation Values: 2.6953640325438473
Object ID Field:
Fields:
None
Default Mosaic Method: Center
Allowed Mosaic Methods:
SortField:
SortValue: null
Mosaic Operator: First
Default Compression Quality: 75
Default Resampling Method: Bilinear
Max Record Count: null
Max Image Height: 4100
Max Image Width: 15000
Max Download Image Count: null
Max Mosaic Image Count: null
Allow Raster Function: true
Allow Copy: true
Allow Analysis: true
Allow Compute TiePoints: false
Supports Statistics: false
Supports Advanced Queries: false
Use StandardizedQueries: true
Raster Type Infos:
Name: Raster Dataset
Description: Supports all ArcGIS Raster Datasets
Help:
Has Raster Attribute Table: false
Edit Fields Info: null
Ownership Based AccessControl For Rasters: null
Child Resources:
Info
Histograms
Statistics
Key Properties
Legend
Raster Function Infos
Supported Operations:
Export Image
Identify
Measure
Compute Histograms
Compute Statistics Histograms
Get Samples
Compute Class Statistics
Query Boundary
Compute Pixel Location
Compute Angles
Validate
Project